BEGIN:VCALENDAR
VERSION:2.0
PRODID:-//Φρονεῖν - ECPv5.3.2.1//NONSGML v1.0//EN
CALSCALE:GREGORIAN
METHOD:PUBLISH
X-WR-CALNAME:Φρονεῖν
X-ORIGINAL-URL:https://fronein.gr
X-WR-CALDESC:Events for Φρονεῖν
BEGIN:VTIMEZONE
TZID:UTC
BEGIN:STANDARD
TZOFFSETFROM:+0000
TZOFFSETTO:+0000
TZNAME:UTC
DTSTART:20240101T000000
END:STANDARD
END:VTIMEZONE
BEGIN:VEVENT
DTSTART;TZID=UTC:20240211T173000
DTEND;TZID=UTC:20240211T210000
DTSTAMP:20260423T223459
CREATED:20240110T074635Z
LAST-MODIFIED:20240110T092522Z
UID:2320-1707672600-1707685200@fronein.gr
SUMMARY:ΠΑΓΚΟΣΜΙΑ ΗΜΕΡΑ ΕΛΛΗΝΙΚΗΣ ΓΛΩΣΣΑΣ
DESCRIPTION:Παγκόσμια ημέρα για την ελληνική γλώσσα \n \nΠΑΓΚΟΣΜΙΑ ΗΜΕΡΑ ΕΛΛΗΝΙΚΗΣ ΓΛΩΣΣΑΣ \nΗ ΕΟΡΤΗ ΓΙΑ ΤΗΝ ΕΛΛΗΝΙΚΗ ΓΛΩΣΣΑ  ΘΑ ΠΡΑΓΜΑΤΟΠΟΙΗΘΗ ΣΤΟ ΠΟΛΕΜΙΚΟ ΜΟΥΣΕΙΟ \n(Αμφιθέατρο «Ιωάννης Καποδίστριας»\, Ριζάρη 2\, Αθήνα) \nΤΗΝ ΚΥΡΙΑΚΗ 11 ΦΕΒΡΟΥΑΡΙΟΥ 2024\, ΩΡΑ 17:30 – 21:00 .\n \nΗ ΣΧΟΛΗ ΜΑΣ ΜΕ ΤΟΥΣ ΜΑΘΗΤΕΣ ΤΗΣ ΘΑ ΕΙΝΑΙ ΕΚΕΙ ΔΙΟΤΙ ΤΑ ΠΑΙΔΙΑ ΑΠΟ ΜΙΚΡΑ ΠΡΕΠΕΙ ΝΑ  ΜΑΘΟΥΝ ΝΑ ΥΠΗΡΕΤΟΥΝ ΑΞΙΕΣ…
URL:https://fronein.gr/event/2320/
LOCATION:Πολεμικό Μουσείο\, Ριζάρη 2\, Αθήνα 106 75\, Αθήνα\, Greece
CATEGORIES:Εκδηλώσεις
END:VEVENT
END:VCALENDAR