BEGIN:VCALENDAR
VERSION:2.0
PRODID:-//Φρονεῖν - ECPv5.3.2.1//NONSGML v1.0//EN
CALSCALE:GREGORIAN
METHOD:PUBLISH
X-WR-CALNAME:Φρονεῖν
X-ORIGINAL-URL:https://fronein.gr
X-WR-CALDESC:Events for Φρονεῖν
BEGIN:VTIMEZONE
TZID:UTC
BEGIN:STANDARD
TZOFFSETFROM:+0000
TZOFFSETTO:+0000
TZNAME:UTC
DTSTART:20230101T000000
END:STANDARD
END:VTIMEZONE
BEGIN:VEVENT
DTSTART;VALUE=DATE:20230915
DTEND;VALUE=DATE:20230917
DTSTAMP:20260424T070938
CREATED:20230831T062620Z
LAST-MODIFIED:20230904T090226Z
UID:2277-1694736000-1694908799@fronein.gr
SUMMARY:ΗΜΕΡΑ ΓΝΩΡΙΜΙΑΣ ΜΕ ΤΗΝ ΣΧΟΛΗ ΜΑΣ ΚΑΙ ΔΩΡΕΑΝ ΔΟΚΙΜΑΣΤΙΚΟ ΜΑΘΗΜΑ
DESCRIPTION:ΤΕΤΑΡΤΗ 13 ΣΕΠΤΕΜΒΡΙΟΥ 2023 ΚΑΙ ΩΡΑ 20.00 \nΔΙΑΔΙΚΤΥΑΚΗ ΕΜΗΜΕΡΩΣΙΣ ΚΑΙ ΔΟΚΙΜΑΣΤΙΚΟ ΜΑΘΗΜΑ ΓΙΑ ΤΑ ΔΙΑΔΙΚΤΥΚΑ ΤΜΗΜΑΤΑ ΠΑΙΔΩΝ ΚΑΙ ΝΗΠΙΩΝ \n(γιὰ νὰ συνδεθῆτε ἐπικοινωνήσατε τηλεφωνικῶς μὲ τὴν σχολή μας τουλάχιστον μία ὥρα πρίν ἤ στείλατε αἴτημα στὸ skype στὴν διεύθυνση skype:   fronein18@yahoo.gr ἤ Ειρήνη Μαυροπούλου /καὶ ἐπιλέξατε τὸ εἰκονίδιο μὲ τὴν σχολή μας. Στείλατε  αἴτημα ἀποδοχῆς καὶ μήνυμα μὲ τὴν ἡλικία τοῦ μαθητοῦ.) \n  \nΠΑΡΑΣΚΕΥΗ 15 ΣΕΠΤΕΜΒΡΙΟΥ 2023 ΚΑΙ ΩΡΑ  5.00 μμ-6.30 μ.μ. \nΔΩΡΕΑΝ ΜΑΘΗΜΑ ΓΝΩΡΙΜΙΑΣ ΣΤΗΝ ΣΧΟΛΗ ΜΑΣ  ΓΙΑ  ΝΗΠΙΑ ΚΑΙ ΠΑΙΔΙΑ  Α΄- Γ΄ ΔΗΜΟΤΙΚΟΥ \nΠΑΡΑΣΚΕΥΗ 15 ΣΕΠΤΕΜΒΡΙΟΥ 2023 ΚΑΙ ΩΡΑ  6.00 μμ-8.00 μ.μ. \nΔΩΡΕΑΝ ΜΑΘΗΜΑ ΓΝΩΡΙΜΙΑΣ ΣΤΗΝ ΣΧΟΛΗ ΜΑΣ  ΓΙΑ  ΠΑΙΔΙΑ Γ΄- ΣΤ΄ ΔΗΜΟΤΙΚΟΥ \n ΣΑΒΒΑΤΟ 16 ΣΕΠΤΕΜΒΡΙΟΥ 2023 ΚΑΙ ΩΡΑ  9.30 π.μ. -11.30 μ.μ. \nΔΩΡΕΑΝ ΜΑΘΗΜΑ ΓΝΩΡΙΜΙΑΣ ΣΤΗΝ ΣΧΟΛΗ ΜΑΣ  ΓΙΑ  ΠΑΙΔΙΑ Α΄- Γ΄ ΔΗΜΟΤΙΚΟΥ  ΚΑΙ ΜΑΘΗΤΕΣ ΓΥΜΝΑΣΙΟΥ \n ΣΑΒΒΑΤΟ 16 ΣΕΠΤΕΜΒΡΙΟΥ 2023 ΚΑΙ ΩΡΑ  11.30 π.μ. -12.30 μ.μ \nΔΩΡΕΑΝ ΜΑΘΗΜΑ ΓΝΩΡΙΜΙΑΣ ΣΤΗΝ ΣΧΟΛΗ ΜΑΣ  ΓΙΑ  ΝΗΠΙΑ ΚΑΙ ΜΑΘΗΤΕΣ Γ΄- ΣΤ΄ ΔΗΜΟΤΙΚΟΥ \n  \nΓιὰ τὸ δοκιμαστικὸ μάθημα\, παρακαλοῦμε\, δηλώσατε συμμετοχὴ τηλεφωνικῶς ἤ μὲ ἠλεκτρονικὸ μήνυμα. \nὍσοι γονεῖς ἐπιθυμοῦν νὰ συζητήσουν κατ΄ἰδίαν μὲ τὴν διευθύντρια τῆς σχολῆς ἤ τοὺς καθηγητές καλὸν εἶναι νὰ ἐπισκεφθοῦν τὴν σχολή μας κατόπιν συνεννοήσεως καὶ σὲ ἕτερο χρόνο. \n 
URL:https://fronein.gr/event/%ce%b7%ce%bc%ce%b5%cf%81%ce%b1-%ce%b3%ce%bd%cf%89%cf%81%ce%b9%ce%bc%ce%b9%ce%b1%cf%83-%ce%bc%ce%b5-%cf%84%ce%b7%ce%bd-%cf%83%cf%87%ce%bf%ce%bb%ce%b7-%ce%bc%ce%b1%cf%83-%ce%ba%ce%b1%ce%b9-%ce%b4%cf%89/
END:VEVENT
BEGIN:VEVENT
DTSTART;TZID=UTC:20230929T080000
DTEND;TZID=UTC:20230929T170000
DTSTAMP:20260424T070938
CREATED:20230929T110035Z
LAST-MODIFIED:20230929T110035Z
UID:2289-1695974400-1696006800@fronein.gr
SUMMARY:ΓΝΩΡΙΜΙΑ ΜΕ ΤΗΝ ΣΧΟΛΗ ΜΑΣ-ΠΑΡΟΥΣΙΑΣΙΣ ΤΗΣ ΜΕΘΟΔΟΥ ΜΑΣ ΚΑΙ ΔΩΡΕΑΝ ΔΟΚΙΜΑΣΤΙΚΟ ΜΑΘΗΜΑ ΑΡΧΑΙΩΝ ΕΛΛΗΝΙΚΩΝ
DESCRIPTION:ΣΧΟΛΗ ΦΡΟΝΕΙΝ:ΟΚΤΩΒΡΙΟΣ 2023\n\n\nΤΗΝ ΠΑΡΑΣΚΕΥΗ 6 ΟΚΤΩΒΡΙΟΥ 2023  ΚΑΙ ΩΡΑ 7.30-9.30 μμ \nΗ ΣΧΟΛΗ ΜΑΣ ΣΑΣ ΠΡΟΣΚΑΛΕΙ \nΣΤΟ 1 ο ΜΑΘΗΜΑ ΑΡΧΑΙΩΝ ΕΛΛΗΝΙΚΩΝ ΓΙΑ ΕΝΗΛΙΚΕΣ (μπορεῖτε νὰ τὸ παρακολουθήσετε διὰ ζώσης ἤ μέσω skype)\n\nΚΑΙ ΤΗΝ ΠΕΜΠΤΗ 12 ΟΚΤΩΒΡΙΟΥ 2023 ΣΤΗΝ ΠΡΩΤΗ ΔΙΑ ΖΩΣΗΣ  ΣΥΝΑΝΤΗΣΗ ΤΗΣ ΟΜΑΔΟΣ ΜΕΛΕΤΗΣ (ἀπαραίτητη ἡ κράτησις θέσεως)\n\n\n\nΠΡΟΓΡΑΜΜΑ ΜΑΘΗΜΑΤΩΝ (διὰ ζώσης καὶ διαδικτυακῶν) ΓΙΑ ΕΝΗΛΙΚΕΣ:\n\n\n\nΔΕΥΤΕΡΑ: 5.00-7.00 μμ ΕΥΡΙΠΙΔΟΥ ΕΛΕΝΗ\nΔΕΥΤΕΡΑ: 7.00-9.00 μμ ΕΛΛΗΝΙΚΟΣ ΠΟΛΙΤΙΣΜΟΣ μὲ τὸν Γιῶργο Λεκάκη\nΔΕΥΤΕΡΑ:7.30-9.30 μμ Γ΄- ΕΤΟΣ ΑΡΧΑΙΩΝ ΕΛΛΗΝΙΚΩΝ ΕΝΗΛΙΚΩΝ\n\n\n\nΠΑΡΑΣΚΕΥΗ: 7.30-9.30 μμ Α΄ ΕΤΟΣ ΑΡΧΑΙΩΝ ΕΛΛΗΝΙΚΩΝ\n\n\n\n\nΣΑΒΒΑΤΟ: 13.30-15.30 Β ΕΤΟΣ ΑΡΧΑΙΩΝ ΕΛΛΗΝΙΚΩΝ\n\n\n\n* Η ΟΜΑΔΑ ΜΕΛΕΤΗΣ ΤΗΣ ΠΕΜΠΤΗΣ ΦΕΤΟΣ ΘΑ ΜΕΛΕΤΗΣΗ ΤΗΝ ΟΔΥΣΣΕΙΑ ΤΟΥ ΟΜΗΡΟΥ ΚΑΙ ΟΙ ΣΥΝΑΝΤΗΣΕΙΣ ΑΡΧΟΝΤΑΙ ΤΗΝ 2η ΠΕΜΠΤΗ ΤΟΥ ΟΚΤΩΒΡΙΟΥ (Η ΣΥΜΜΕΤΟΧΗ ΕΙΝΑΙ ΔΩΡΕΑΝ).\n\n\nΓΙΑ ΠΕΡΙΣΣΟΤΕΡΕΣ ΠΛΗΡΟΦΟΡΙΕΣ ΚΑΛΕΣΑΤΕ ΣΤΟ ΤΗΛ. 210 3232370
URL:https://fronein.gr/event/%ce%b3%ce%bd%cf%89%cf%81%ce%b9%ce%bc%ce%b9%ce%b1-%ce%bc%ce%b5-%cf%84%ce%b7%ce%bd-%cf%83%cf%87%ce%bf%ce%bb%ce%b7-%ce%bc%ce%b1%cf%83-%cf%80%ce%b1%cf%81%ce%bf%cf%85%cf%83%ce%b9%ce%b1%cf%83%ce%b9%cf%83/
END:VEVENT
END:VCALENDAR