BEGIN:VCALENDAR
VERSION:2.0
PRODID:-//Φρονεῖν - ECPv5.3.2.1//NONSGML v1.0//EN
CALSCALE:GREGORIAN
METHOD:PUBLISH
X-WR-CALNAME:Φρονεῖν
X-ORIGINAL-URL:https://fronein.gr
X-WR-CALDESC:Events for Φρονεῖν
BEGIN:VTIMEZONE
TZID:UTC
BEGIN:STANDARD
TZOFFSETFROM:+0000
TZOFFSETTO:+0000
TZNAME:UTC
DTSTART:20230101T000000
END:STANDARD
END:VTIMEZONE
BEGIN:VEVENT
DTSTART;TZID=UTC:20230613T080000
DTEND;TZID=UTC:20230613T170000
DTSTAMP:20260424T121956
CREATED:20230613T163720Z
LAST-MODIFIED:20230613T163720Z
UID:2264-1686643200-1686675600@fronein.gr
SUMMARY:ΘΕΡΙΝΟ ΣΧΟΛΕΙΟ: 19-30 ΙΟΥΝΙΟΥ 2023
DESCRIPTION:ΦΡΟΝΕΙΝ ΘΕΡΙΝΟ ΣΧΟΛΕΙΟ 2023(12)
URL:https://fronein.gr/event/%ce%b8%ce%b5%cf%81%ce%b9%ce%bd%ce%bf-%cf%83%cf%87%ce%bf%ce%bb%ce%b5%ce%b9%ce%bf-19-30-%ce%b9%ce%bf%cf%85%ce%bd%ce%b9%ce%bf%cf%85-2023/
END:VEVENT
BEGIN:VEVENT
DTSTART;TZID=UTC:20230616T180000
DTEND;TZID=UTC:20230616T203000
DTSTAMP:20260424T121956
CREATED:20230613T162857Z
LAST-MODIFIED:20230613T163113Z
UID:2262-1686938400-1686947400@fronein.gr
SUMMARY:ΕΟΡΤΗ ΛΗΞΕΩΣ ΤΩΝ ΜΑΘΗΜΑΤΩΝ ΤΩΝ ΠΑΙΔΙΚΩΝ ΜΑΣ ΤΜΗΜΑΤΩΝ
DESCRIPTION:ΠΡΟΓΡΑΜΜΑ ΕΟΡΤΗΣ ΠΑΙΔΩΝ-ΕΠΙΔΕΙΞΕΩΝ : \nΠΑΡΑΣΚΕΥΗ 16 ΙΟΥΝΙΟΥ 2023: \nΕΝΑΡΞΙΣ ΕΟΡΤΗΣ ΣΤΙΣ 6.15 μμ\n6.15-7.15 μ.μ. : Τμῆμα νηπίων\, Α΄ἔτος καὶ Β΄ἔτος παίδων.\n7.15 μ.μ. Σύντομο διάλειμμα\n7.30-8.30 μ.μ.: Γ΄ἔτος καὶ Δ΄ἔτος σπουδῶν. \nΣΑΒΒΑΤΟ 17 ΙΟΥΝΙΟΥ 2023: \nΓ΄ \, Δ΄ ΚΑΙ Ε΄ ΕΤΟΣ ΠΑΙΔΩΝ ΚΑΙ ΕΦΗΒΩΝ : ΕΝΑΡΞΙΣ ΕΟΡΤΗΣ 10.00-11.00 π.μ. \nΕΝΑΡΞΙΣ ΕΟΡΤΗΣ ΝΗΠΙΩΝ Α΄ΚΑΙ Β΄ΕΤΟΥΣ ΠΑΙΔΩΝ ΣΤΙΣ 11.30 π.μ \nἈγαπητοὶ γονεῖς\,\nσᾶς ἀποστέλλουμε τὸ πρόγραμμα τῆς φετινῆς ἑορτῆς -ὲπιδείξεων τῶν παιδικῶν μας τμημάτων. Θὰ ἔχετε  εὐκαιρία νὰ γνωρίσετε καλλίτερα τὴν σχολή μας\, τὴν μέθοδό μας\, τὰ ἀποτελέσματά της καὶ τοὺς καθηγητές μας.\nΘὰ εἶναι χαρὰ μας νὰ παρευρεθῆτε μαζί μὲ τὰ παιδιά σας στὴν ἐκδήλωση τῆς σχολῆς μας. \nΜὲ ἐκτίμηση\,\nΕἰρήνη Μαυροπούλου \n 
URL:https://fronein.gr/event/%ce%b5%ce%bf%cf%81%cf%84%ce%b7-%ce%bb%ce%b7%ce%be%ce%b5%cf%89%cf%83-%cf%84%cf%89%ce%bd-%ce%bc%ce%b1%ce%b8%ce%b7%ce%bc%ce%b1%cf%84%cf%89%ce%bd-%cf%84%cf%89%ce%bd-%cf%80%ce%b1%ce%b9%ce%b4%ce%b9%ce%ba/
ORGANIZER;CN="%CE%A3%CF%87%CE%BF%CE%BB%CE%AE%20%22%CE%A6%CF%81%CE%BF%CE%BD%CE%B5%E1%BF%96%CE%BD%22":MAILTO:info@fronein.gr
END:VEVENT
BEGIN:VEVENT
DTSTART;TZID=UTC:20230619T083000
DTEND;TZID=UTC:20230630T143000
DTSTAMP:20260424T121956
CREATED:20230619T090026Z
LAST-MODIFIED:20230602T073416Z
UID:2250-1687163400-1688135400@fronein.gr
SUMMARY:ΘΕΡΙΝΟ ΣΧΟΛΕΙΟ 2023
DESCRIPTION:19- 30 IOYNIOY 2023 \nΣΧΟΛΗ ΦΡΟΝΕΙΝ:  ΘΕΡΙΝΟ  ΣΧΟΛΕΙΟ ΓΙΑ ΠΑΙΔΙΑ ΚΑΙ ΕΦΗΒΟΥΣ \n  \n8.00-9.00:  ΠΡΟΣΕΛΕΥΣΙΣ \n9.00-10.15:   ΠΕΡΙΠΑΤΟΣ  ΚΑΙ ΞΕΝΑΓΗΣΙΣ ΣΤΑ ΕΛΛΗΝΙΚΑ ΚΑΙ ΣΤΑ ΑΓΓΛΙΚΑ \n10.30-11.30:  ΚΑΛΛΙΕΡΓΕΙΑ ΜΑΘΗΜΑΤΙΚΗΣ ΣΚΕΨΕΩΣ-ΓΕΩΜΕΤΡΙΑ \n11.30-12.30: ΚΑΛΛΙΕΡΓΕΙΑ ΓΡΑΠΤΟΥ ΛΟΓΟΥ (ΓΡΑΜΜΑΤΙΚΗ – ΟΡΘΟΓΡΑΦΙΑ) \n12.45-13.45:  ΜΟΥΣΙΚΗ ΚΑΙ ΤΡΑΓΟΥΔΙ\n \n2.00-2.30: ΣΤΑΔΙΑΚΗ ΑΠΟΧΩΡΗΣΙΣ  (δυνατότητα ἐπεκτάσεως ἕως τὶς 4\,00 μμ) \n  \nΣτὸν  πρωινό μας περίπατο θὰ μᾶς ξεναγήση στοὺς τρεῖς πανέμορφους λόφους ποὺ περιβάλλουν τὴν σχολή μας ἡ καθηγήτρια Ἀγγλικῶν καὶ συγγραφεὺς τοῦ ὁδηγοῦ γιὰ παιδιὰ  “A Guide for Children to the Acropolis and the Three Western Hills:  The Hill of the Nymphs\, Pnyx Hill\, and the Hill of the Muses (Philopappos Hill) κυρία Ἰωάννα Καραχρήστου. \nἘν συνεχείᾳ\, οἱ μαθητὲς χωρισμένοι ὄχι μόνον κατὰ ἡλικίες ἀλλὰ καὶ ἀναλόγως τῶν ἀναγκῶν τους θὰ ἀσκοῦνται δύο ὧρες καθημερινῶς στὴν Ἐλληνικὴ Γλῶσσα μὲ τὴν φιλόλογο καὶ διδάκτορα Ἐπιστημῶν Ἀγωγῆς κα Εἰρήνη Μαυροπούλου καὶ στὰ Μαθηματικὰ μὲ τὸν ἐξαίρετο μαθηματικὸ κον Ἰωάννη Βενιέρη. Συγκεκριμένα θὰ δημιουργηθοῦν τμήματα γιὰ παιδιὰ ποὺ προτίθενται νὰ δώσουν ἐξετάσεις στὰ πρότυπα ἤ στὰ ξενόγλωσσα σχολεῖα (ἄμεσα ἤ μελλοντικῶς) καὶ τμήματα γιὰ τὰ παιδιὰ ποὺ θέλουν  νὰ καλύψουν κενὰ ἤ νὰ ξεπεράσουν τυχὸν δυσκολίες. \nΔὲν παραβλέπουμε ὅτι τὰ παιδιὰ ἔχουν ἀνάγκη ἀπὸ οὐσιαστικὴ ψυχαγωγία καὶ δὴ ἀπὸ ρυθμὸ καὶ ἁρμονία γι΄αὐτὸ τὸ καθημερινό τους πρόγραμμα ἐπι πλέον τοῦ περιπάτου  περιλαμβάνει ζωντανὴ μουσικὴ καὶ τραγούδια μὲ τὴν καθοδήγηση τοῦ μουσικοῦ μας κυρίου Θεοδούλου Ἰωάννου. Τὰ παιδιὰ μποροῦν νὰ φέρνουν καὶ τὰ δικά τους μουσικὰ ὄργανα γιὰ νὰ ἀσκοῦνται. \nΓιὰ περισσότερες πληροφορίες ἀπευθυνθῆτε στὴν Γραμματεία 210 3232370.
URL:https://fronein.gr/event/%ce%b8%ce%b5%cf%81%ce%b9%ce%bd%ce%bf-%cf%83%cf%87%ce%bf%ce%bb%ce%b5%ce%b9%ce%bf-2023/
CATEGORIES:Εκδηλώσεις
ORGANIZER;CN="%CE%A3%CF%87%CE%BF%CE%BB%CE%AE%20%22%CE%A6%CF%81%CE%BF%CE%BD%CE%B5%E1%BF%96%CE%BD%22":MAILTO:info@fronein.gr
END:VEVENT
END:VCALENDAR