BEGIN:VCALENDAR
VERSION:2.0
PRODID:-//Φρονεῖν - ECPv5.3.2.1//NONSGML v1.0//EN
CALSCALE:GREGORIAN
METHOD:PUBLISH
X-WR-CALNAME:Φρονεῖν
X-ORIGINAL-URL:https://fronein.gr
X-WR-CALDESC:Events for Φρονεῖν
BEGIN:VTIMEZONE
TZID:UTC
BEGIN:STANDARD
TZOFFSETFROM:+0000
TZOFFSETTO:+0000
TZNAME:UTC
DTSTART:20220101T000000
END:STANDARD
END:VTIMEZONE
BEGIN:VEVENT
DTSTART;TZID=UTC:20220909T053000
DTEND;TZID=UTC:20220909T190000
DTSTAMP:20260420T082516
CREATED:20220901T124600Z
LAST-MODIFIED:20220901T124600Z
UID:2185-1662701400-1662750000@fronein.gr
SUMMARY:ΠΑΡΑΣΚΕΥΗ 9/9 ΚΑΙ ΣΑΒΒΑΤΟ 10/9 2022 ΥΠΟΔΟΧΗ ΤΩΝ ΝΕΩΝ ΜΑΣ ΜΑΘΗΤΩΝ-ΔΩΡΕΑΝ ΜΑΘΗΜΑ ΑΡΧΑΙΩΝ ΕΛΛΗΝΙΚΩΝ
DESCRIPTION:Σᾶς ἐνημερώνουμε ὅτι ἡ σχολή μας θὰ εἶναι ἀνοικτὴ ἀπὸ 1η Σεπτεμβρίου 2022 γιὰ τὶς ἐγγραφὲς τοῦ νέου σχολικοῦ ἔτους. Τὰ μαθήματα θὰ ἀρχίσουν στὶς 16 Σεπτεμβρίου καὶ ἕως τότε παρακαλοῦμε νὰ ἔχετε ἐπικοινωνήσει μὲ τὴν σχολή γιὰ τὴν ἐγγραφή σας. \nΓΙΑ ΤΟΥΣ ΝΕΟΥΣ ΜΑΣ ΜΑΘΗΤΕΣ ΠΡΟΣΦΕΡΟΥΜΕ ΕΝΑ ΔΩΡΕΑΝ ΜΑΘΗΜΑ ΓΝΩΡΙΜΙΑΣ: \nΤΗΝ ΠΑΡΑΣΚΕΥΗ 9/9  στὶς 5.30-7.00 μ.μ γιὰ μαθητὲς Δημοτικοῦ καὶ στὶς 6.00-7.30 γιὰ μαθητὲς Γυμνασίου \nἤ \nΤΟ ΣΑΒΒΑΤΟ 10/9  στὶς 10.00-11.30 π.μ. γιὰ μαθητὲς Δημοτικοῦ \, 12.00 -12.45 γιὰ νήπια καὶ προνήπια \nἤ ΔΙΑΔΙΚΤΥΑΚΩΣ ΤΗΝ ΤΕΤΑΡΤΗ 14/9 (7.30-8.30). Γιὰ τὴν συμμετοχή σας εἶναι ἀπαραίτητη ἡ κράτησις θέσεως (τηλεφωνικῶς ἤ μὲ ἠλ. μήνυμα σημειώνοντας ὄνομα καὶ ἡλικία μαθητοῦ καὶ ἕνα τηλέφωνο ἐπικοινωνίας). \nΤΑΧΥΡΡΥΘΜΟ ΣΕΜΙΝΑΡΙΟΝ ΟΡΘΟΓΡΑΦΙΑΣ!  5-9 ΣΕΠΤΕΜΒΡΙΟΥ 2022 \nἘπειδὴ πολλοὶ μαθητὲς παρουσιάζουν σοβαρὴ ὑστέρηση στὴν ὀρθογραφία\, διοργανώσουμε ἕνα ἐντατικὸ πρόγραμμα ἐξάσκήσεως τῶν μαθητῶν στὴν ὀρθογραφία καὶ ἐκμαθήσεως τῶν βασικῶν κανόνων της. Ἡ διάρκεια τοῦ σεμιναρίου εἶναι 10 ὧρες (δύο ὧρες καθημερινῶς καὶ μπορεῖτε νὰ ἐπιλέξετε τὸ πρωινὸ τμῆμα (10.00-12.00) ἤ τὸ ἀπογευματινὸ (6.00-8.00 μ.μ.) ἤ μεικτό. ΚΟΣΤΟΣ : 60 ΕΥΡΩ
URL:https://fronein.gr/event/%cf%83%ce%b5%ce%bc%ce%b9%ce%bd%ce%b1%cf%81%ce%b9%ce%bf-%ce%bf%cf%81%ce%b8%ce%bf%ce%b3%cf%81%ce%b1%cf%86%ce%b9%ce%b1%cf%83/
LOCATION:Σχολή Φρονείν\, Θησείο 18\, Αθήνα\, Greece
ORGANIZER;CN="%CE%A3%CF%87%CE%BF%CE%BB%CE%AE%20%22%CE%A6%CF%81%CE%BF%CE%BD%CE%B5%E1%BF%96%CE%BD%22":MAILTO:info@fronein.gr
END:VEVENT
END:VCALENDAR