BEGIN:VCALENDAR
VERSION:2.0
PRODID:-//Φρονεῖν - ECPv5.3.2.1//NONSGML v1.0//EN
CALSCALE:GREGORIAN
METHOD:PUBLISH
X-WR-CALNAME:Φρονεῖν
X-ORIGINAL-URL:https://fronein.gr
X-WR-CALDESC:Events for Φρονεῖν
BEGIN:VTIMEZONE
TZID:UTC
BEGIN:STANDARD
TZOFFSETFROM:+0000
TZOFFSETTO:+0000
TZNAME:UTC
DTSTART:20210101T000000
END:STANDARD
END:VTIMEZONE
BEGIN:VEVENT
DTSTART;TZID=UTC:20210928T080000
DTEND;TZID=UTC:20210928T170000
DTSTAMP:20260420T081657
CREATED:20210928T094115Z
LAST-MODIFIED:20210928T094115Z
UID:2089-1632816000-1632848400@fronein.gr
SUMMARY:Η ΠΡΩΤΗ ΜΑΣ ΕΠΙΣΚΕΨΙΣ: ΣΤΟΝ ΤΥΜΒΟ ΤΩΝ ΣΑΛΑΜΙΝΟΜΑΧΩΝ
DESCRIPTION:Τὴν Κυριακή\, 3 Ὀκτωβρίου 2021 καὶ ὥρα 12.00  \nγονεῖς καὶ μαθητὲς θὰ ἐπισκεφθοῦμε \nτὸν ΤΥΜΒΟ ΤΩΝ ΣΑΛΑΜΙΝΟΜΑΧΩΝ \nστὴν Σαλαμῖνα       \nμὲ τὴν εὐκαιρία τοῦ ἑορτασμοῦ τῆς ἱστορικῆς ἐπετείου τῆς Ναυμαχίας τῆς Σαλαμῖνος (29 Σεπτεμβρίου 480 π.Χ.) \n  \nΣυνοδεύει ὁ δημοσιογράφος καὶ συγγραφεὺς  Γιῶργος Λεκάκης.
URL:https://fronein.gr/event/%ce%b7-%cf%80%cf%81%cf%89%cf%84%ce%b7-%ce%bc%ce%b1%cf%83-%ce%b5%cf%80%ce%b9%cf%83%ce%ba%ce%b5%cf%88%ce%b9%cf%83-%cf%83%cf%84%ce%bf%ce%bd-%cf%84%cf%85%ce%bc%ce%b2%ce%bf-%cf%84%cf%89%ce%bd-%cf%83%ce%b1/
END:VEVENT
END:VCALENDAR