BEGIN:VCALENDAR
VERSION:2.0
PRODID:-//Φρονεῖν - ECPv5.3.2.1//NONSGML v1.0//EN
CALSCALE:GREGORIAN
METHOD:PUBLISH
X-WR-CALNAME:Φρονεῖν
X-ORIGINAL-URL:https://fronein.gr
X-WR-CALDESC:Events for Φρονεῖν
BEGIN:VTIMEZONE
TZID:UTC
BEGIN:STANDARD
TZOFFSETFROM:+0000
TZOFFSETTO:+0000
TZNAME:UTC
DTSTART:20250101T000000
END:STANDARD
END:VTIMEZONE
BEGIN:VEVENT
DTSTART;TZID=UTC:20250619T063000
DTEND;TZID=UTC:20250619T210000
DTSTAMP:20260420T091911
CREATED:20250612T181925Z
LAST-MODIFIED:20250612T181925Z
UID:2613-1750314600-1750366800@fronein.gr
SUMMARY:ΕΠΙΔΕΙΞΕΙΣ ΠΑΙΔΙΚΩΝ ΚΑΙ ΕΦΗΒΙΚΩΝ ΤΜΗΜΑΤΩΝ 2025
DESCRIPTION:Τὴν Πέμπτη 19 Ἰουνίου 2025 σᾶς προσκαλοῦμε στὶς ἐπιδείξεις τῶν παιδικῶν καὶ ἐφηβικῶν τμημάτων ἀρχαίων Ἑλληνικῶν καὶ Ἱστορίας. \nΠΡΟΓΡΑΜΜΑ: \nΑ΄ΜΕΡΟΣ: \n6.15-6.30 :προσέλευσις \n6.30-7.30 μ.μ.: Ἐπιδείξεις νηπίων\, α’  καὶ β΄ἔτους παίδων \nΑΠΟΝΟΜΗ ΕΝΔΕΙΚΤΙΚΩΝ \nΒ΄ΜΕΡΟΣ: \n7.45 -8.45΄μ.μ.: Ἐπιδείξεις  γ΄ καὶ δ΄ἔτους παίδων \, ἐφηβικῶν τμημάτων καὶ τμήματος Ἱστορίας. \nΑΠΟΝΟΜΗ ΕΝΔΕΙΚΤΙΚΩΝ \nΜετὰ τὸ πέρας τῶν ἐπιδείξεων θὰ ἀκολουθήση ἀποχαιρετιστήρια ἑορτή τῆς ΛΕΣΧΗΣ ΑΝΑΓΝΩΣΗΣ. \n 
URL:https://fronein.gr/event/%ce%b5%cf%80%ce%b9%ce%b4%ce%b5%ce%b9%ce%be%ce%b5%ce%b9%cf%83-%cf%80%ce%b1%ce%b9%ce%b4%ce%b9%ce%ba%cf%89%ce%bd-%ce%ba%ce%b1%ce%b9-%ce%b5%cf%86%ce%b7%ce%b2%ce%b9%ce%ba%cf%89%ce%bd-%cf%84%ce%bc%ce%b7/
ORGANIZER;CN="%CE%A3%CF%87%CE%BF%CE%BB%CE%AE%20%22%CE%A6%CF%81%CE%BF%CE%BD%CE%B5%E1%BF%96%CE%BD%22":MAILTO:info@fronein.gr
END:VEVENT
END:VCALENDAR