BEGIN:VCALENDAR
VERSION:2.0
PRODID:-//Φρονεῖν - ECPv5.3.2.1//NONSGML v1.0//EN
CALSCALE:GREGORIAN
METHOD:PUBLISH
X-WR-CALNAME:Φρονεῖν
X-ORIGINAL-URL:https://fronein.gr
X-WR-CALDESC:Events for Φρονεῖν
BEGIN:VTIMEZONE
TZID:UTC
BEGIN:STANDARD
TZOFFSETFROM:+0000
TZOFFSETTO:+0000
TZNAME:UTC
DTSTART:20250101T000000
END:STANDARD
END:VTIMEZONE
BEGIN:VEVENT
DTSTART;TZID=UTC:20250627T203000
DTEND;TZID=UTC:20250627T223000
DTSTAMP:20260420T094141
CREATED:20250624T120817Z
LAST-MODIFIED:20250624T120817Z
UID:2616-1751056200-1751063400@fronein.gr
SUMMARY:ΕΟΡΤΗ ΛΗΞΕΩΣ ΜΑΘΗΜΑΤΩΝ ΓΙΑ ΤΑ ΤΜΗΜΑΤΑ ΕΝΗΛΙΚΩΝ
DESCRIPTION:Στὴν ἐορτὴ λήξεως τῶν μαθημάτων\, τὴν Παρασκευὴ 27 Ἰουνίου 2025 καὶ ὥρα 8.30 μ.μ.\, οἱ ἐνήλικες μαθητὲς τῆς σχολῆς μας θὰ ἀπαγγείλουν Ὅμηρον ἀπὸ στήθους\, ἀποσπάσματα ἀπὸ τὸ ΑΞΙΟΝ ΕΣΤΙ καὶ θὰ παρουσιάσουν ἐργασίες ποὺ ἐξεπόνησαν κατὰ τὴν διάρκεια τῶν μαθημάτων. \nΣτὴν ἐκδήλωσιν εἶναι εὐπρόσδεκτοι πέραν τῶν μαθητῶν καὶ τῶν οἰκείων τους καὶ  ὅσοι θὰ  ἤθελαν νὰ γνωρίσουν τὴν σχολή μας\, τὰ μαθήματα καὶ τοὺς καθηγητές μας.
URL:https://fronein.gr/event/%ce%b5%ce%bf%cf%81%cf%84%ce%b7-%ce%bb%ce%b7%ce%be%ce%b5%cf%89%cf%83-%ce%bc%ce%b1%ce%b8%ce%b7%ce%bc%ce%b1%cf%84%cf%89%ce%bd-%ce%b3%ce%b9%ce%b1-%cf%84%ce%b1-%cf%84%ce%bc%ce%b7%ce%bc%ce%b1%cf%84%ce%b1/
ORGANIZER;CN="%CE%A3%CF%87%CE%BF%CE%BB%CE%AE%20%22%CE%A6%CF%81%CE%BF%CE%BD%CE%B5%E1%BF%96%CE%BD%22":MAILTO:info@fronein.gr
END:VEVENT
END:VCALENDAR